BEGIN:VCALENDAR
VERSION:2.0
PRODID:-//Ripley & Send Matters - ECPv4.9.3.1//NONSGML v1.0//EN
CALSCALE:GREGORIAN
METHOD:PUBLISH
X-WR-CALNAME:Ripley & Send Matters
X-ORIGINAL-URL:https://ripleyandsendmatters.org.uk
X-WR-CALDESC:Events for Ripley & Send Matters
BEGIN:VEVENT
DTSTART;TZID=Europe/London:20231125T110000
DTEND;TZID=Europe/London:20231125T150000
DTSTAMP:20260424T192530
CREATED:20231026T144217Z
LAST-MODIFIED:20231026T144217Z
UID:7636-1700910000-1700924400@ripleyandsendmatters.org.uk
SUMMARY:St Mary's Church\, Send\, Christmas Fair
DESCRIPTION:St May’s Church\, Send\, are holding a Christmas Fair in the Church Room on Send Road on Saturday 25th November\, 11am to 3 pm. \n \n
URL:https://ripleyandsendmatters.org.uk/event/st-marys-church-send-christmas-fair/
LOCATION:Send Church Room\, Send Road\, Send\, United Kingdom
END:VEVENT
END:VCALENDAR